BEGIN:VCALENDAR
VERSION:2.0
PRODID:-//Special Olympics Loudoun County - ECPv6.15.11//NONSGML v1.0//EN
CALSCALE:GREGORIAN
METHOD:PUBLISH
X-ORIGINAL-URL:https://sovaloudoun.org
X-WR-CALDESC:Events for Special Olympics Loudoun County
REFRESH-INTERVAL;VALUE=DURATION:PT1H
X-Robots-Tag:noindex
X-PUBLISHED-TTL:PT1H
BEGIN:VTIMEZONE
TZID:America/New_York
BEGIN:DAYLIGHT
TZOFFSETFROM:-0500
TZOFFSETTO:-0400
TZNAME:EDT
DTSTART:20240310T070000
END:DAYLIGHT
BEGIN:STANDARD
TZOFFSETFROM:-0400
TZOFFSETTO:-0500
TZNAME:EST
DTSTART:20241103T060000
END:STANDARD
BEGIN:DAYLIGHT
TZOFFSETFROM:-0500
TZOFFSETTO:-0400
TZNAME:EDT
DTSTART:20250309T070000
END:DAYLIGHT
BEGIN:STANDARD
TZOFFSETFROM:-0400
TZOFFSETTO:-0500
TZNAME:EST
DTSTART:20251102T060000
END:STANDARD
BEGIN:DAYLIGHT
TZOFFSETFROM:-0500
TZOFFSETTO:-0400
TZNAME:EDT
DTSTART:20260308T070000
END:DAYLIGHT
BEGIN:STANDARD
TZOFFSETFROM:-0400
TZOFFSETTO:-0500
TZNAME:EST
DTSTART:20261101T060000
END:STANDARD
END:VTIMEZONE
BEGIN:VEVENT
DTSTART;TZID=America/New_York:20251115T130000
DTEND;TZID=America/New_York:20251115T143000
DTSTAMP:20260423T072402
CREATED:20251025T202702Z
LAST-MODIFIED:20251030T124218Z
UID:10001039-1763211600-1763217000@sovaloudoun.org
SUMMARY:Fall Sports End of Season Party
DESCRIPTION:
URL:https://sovaloudoun.org/event/fall-sports-end-of-season-party/
LOCATION:Trailside Middle School\, 20325 Claiborne Parkway\, Ashburn\, Virginia\, 20147
CATEGORIES:Event
ORGANIZER;CN="Tom Knight":MAILTO:memberatlarge2@sovaloudoun.org
END:VEVENT
BEGIN:VEVENT
DTSTART;TZID=America/New_York:20251115T080000
DTEND;TZID=America/New_York:20251115T170000
DTSTAMP:20260423T072402
CREATED:20251013T204407Z
LAST-MODIFIED:20251013T204407Z
UID:10001036-1763193600-1763226000@sovaloudoun.org
SUMMARY:Basketball starts
DESCRIPTION:Basketball starts November 15th
URL:https://sovaloudoun.org/event/basketball-starts/
ORGANIZER;CN="Tom Knight":MAILTO:memberatlarge2@sovaloudoun.org
END:VEVENT
BEGIN:VEVENT
DTSTART;TZID=America/New_York:20250910T130000
DTEND;TZID=America/New_York:20250910T140000
DTSTAMP:20260423T072402
CREATED:20250901T110157Z
LAST-MODIFIED:20250902T125001Z
UID:10001034-1757509200-1757512800@sovaloudoun.org
SUMMARY:SONA Move Challenge App Launch Webinair
DESCRIPTION:What is the SONA Move Challenge? \nThe SONA Move Challenge will run from October 13-December 8\, 2025. Athletes will download the NEW SO Fitness app (available after October 8) to track progress\, stay motivated and celebrate wins.  Registration for The SONA Move Challenge opens September 8\, so mark your calendar and get your athletes ready to move! \nThis 8-week challenge follows the Fit 5 + Healthy Minds goals: \n💠Exercise 5 days a week \n💠Eat 5 servings of fruits & vegetables daily \n💠Drink 5 bottles of water every day \n💠Practice strong mind exercises 5 days a week \nTo join the webinar click HERE! \nSONA Move is open to all athletes\, but for USA Games athletes\, it will also serve as part of the USA Games Athlete Fitness Training Program. This will help athletes prepare\, stay motivated and perform their best in Minneapolis. After the app has launched and more details have been shared\, we will send next steps on how to join the USA Games Team VA group so we can track our progress as a team!
URL:https://sovaloudoun.org/event/sona-move-challenge-app-launch-webinair/
ORGANIZER;CN="Tom Knight":MAILTO:memberatlarge2@sovaloudoun.org
END:VEVENT
END:VCALENDAR