BEGIN:VCALENDAR
VERSION:2.0
PRODID:-//Special Olympics Loudoun County - ECPv6.15.11//NONSGML v1.0//EN
CALSCALE:GREGORIAN
METHOD:PUBLISH
X-ORIGINAL-URL:https://sovaloudoun.org
X-WR-CALDESC:Events for Special Olympics Loudoun County
REFRESH-INTERVAL;VALUE=DURATION:PT1H
X-Robots-Tag:noindex
X-PUBLISHED-TTL:PT1H
BEGIN:VTIMEZONE
TZID:America/New_York
BEGIN:DAYLIGHT
TZOFFSETFROM:-0500
TZOFFSETTO:-0400
TZNAME:EDT
DTSTART:20240310T070000
END:DAYLIGHT
BEGIN:STANDARD
TZOFFSETFROM:-0400
TZOFFSETTO:-0500
TZNAME:EST
DTSTART:20241103T060000
END:STANDARD
BEGIN:DAYLIGHT
TZOFFSETFROM:-0500
TZOFFSETTO:-0400
TZNAME:EDT
DTSTART:20250309T070000
END:DAYLIGHT
BEGIN:STANDARD
TZOFFSETFROM:-0400
TZOFFSETTO:-0500
TZNAME:EST
DTSTART:20251102T060000
END:STANDARD
BEGIN:DAYLIGHT
TZOFFSETFROM:-0500
TZOFFSETTO:-0400
TZNAME:EDT
DTSTART:20260308T070000
END:DAYLIGHT
BEGIN:STANDARD
TZOFFSETFROM:-0400
TZOFFSETTO:-0500
TZNAME:EST
DTSTART:20261101T060000
END:STANDARD
END:VTIMEZONE
BEGIN:VEVENT
DTSTART;TZID=America/New_York:20250612T180000
DTEND;TZID=America/New_York:20250612T193000
DTSTAMP:20260423T194105
CREATED:20250211T140709Z
LAST-MODIFIED:20250211T141146Z
UID:10000616-1749751200-1749756600@sovaloudoun.org
SUMMARY:Softball - Cardinals
DESCRIPTION:
URL:https://sovaloudoun.org/event/first-day-of-cardinals-softball-2/2025-06-12/
ORGANIZER;CN="Paula Culvyhouse - Cardinals":MAILTO:softballcardinals@sovaloudoun.org
END:VEVENT
BEGIN:VEVENT
DTSTART;TZID=America/New_York:20250607T120000
DTEND;TZID=America/New_York:20250607T140000
DTSTAMP:20260423T194105
CREATED:20250211T143837Z
LAST-MODIFIED:20250211T143837Z
UID:10000676-1749297600-1749304800@sovaloudoun.org
SUMMARY:Softball - Cardinals
DESCRIPTION:
URL:https://sovaloudoun.org/event/softball-cardinals/2025-06-07/
ORGANIZER;CN="Paula Culvyhouse - Cardinals":MAILTO:softballcardinals@sovaloudoun.org
END:VEVENT
BEGIN:VEVENT
DTSTART;TZID=America/New_York:20250605T180000
DTEND;TZID=America/New_York:20250605T193000
DTSTAMP:20260423T194105
CREATED:20250211T140709Z
LAST-MODIFIED:20250211T141146Z
UID:10000615-1749146400-1749151800@sovaloudoun.org
SUMMARY:Softball - Cardinals
DESCRIPTION:
URL:https://sovaloudoun.org/event/first-day-of-cardinals-softball-2/2025-06-05/
ORGANIZER;CN="Paula Culvyhouse - Cardinals":MAILTO:softballcardinals@sovaloudoun.org
END:VEVENT
BEGIN:VEVENT
DTSTART;TZID=America/New_York:20250531T120000
DTEND;TZID=America/New_York:20250531T140000
DTSTAMP:20260423T194105
CREATED:20250211T143837Z
LAST-MODIFIED:20250211T143837Z
UID:10000675-1748692800-1748700000@sovaloudoun.org
SUMMARY:Softball - Cardinals
DESCRIPTION:
URL:https://sovaloudoun.org/event/softball-cardinals/2025-05-31/
ORGANIZER;CN="Paula Culvyhouse - Cardinals":MAILTO:softballcardinals@sovaloudoun.org
END:VEVENT
BEGIN:VEVENT
DTSTART;TZID=America/New_York:20250529T180000
DTEND;TZID=America/New_York:20250529T193000
DTSTAMP:20260423T194105
CREATED:20250211T140709Z
LAST-MODIFIED:20250211T141146Z
UID:10000614-1748541600-1748547000@sovaloudoun.org
SUMMARY:Softball - Cardinals
DESCRIPTION:
URL:https://sovaloudoun.org/event/first-day-of-cardinals-softball-2/2025-05-29/
ORGANIZER;CN="Paula Culvyhouse - Cardinals":MAILTO:softballcardinals@sovaloudoun.org
END:VEVENT
BEGIN:VEVENT
DTSTART;TZID=America/New_York:20250524T120000
DTEND;TZID=America/New_York:20250524T140000
DTSTAMP:20260423T194105
CREATED:20250211T143837Z
LAST-MODIFIED:20250211T143837Z
UID:10000674-1748088000-1748095200@sovaloudoun.org
SUMMARY:Softball - Cardinals
DESCRIPTION:
URL:https://sovaloudoun.org/event/softball-cardinals/2025-05-24/
ORGANIZER;CN="Paula Culvyhouse - Cardinals":MAILTO:softballcardinals@sovaloudoun.org
END:VEVENT
BEGIN:VEVENT
DTSTART;TZID=America/New_York:20250522T180000
DTEND;TZID=America/New_York:20250522T193000
DTSTAMP:20260423T194105
CREATED:20250211T140709Z
LAST-MODIFIED:20250211T141146Z
UID:10000613-1747936800-1747942200@sovaloudoun.org
SUMMARY:Softball - Cardinals
DESCRIPTION:
URL:https://sovaloudoun.org/event/first-day-of-cardinals-softball-2/2025-05-22/
ORGANIZER;CN="Paula Culvyhouse - Cardinals":MAILTO:softballcardinals@sovaloudoun.org
END:VEVENT
BEGIN:VEVENT
DTSTART;TZID=America/New_York:20250517T120000
DTEND;TZID=America/New_York:20250517T140000
DTSTAMP:20260423T194105
CREATED:20250211T143837Z
LAST-MODIFIED:20250211T143837Z
UID:10000673-1747483200-1747490400@sovaloudoun.org
SUMMARY:Softball - Cardinals
DESCRIPTION:
URL:https://sovaloudoun.org/event/softball-cardinals/2025-05-17/
ORGANIZER;CN="Paula Culvyhouse - Cardinals":MAILTO:softballcardinals@sovaloudoun.org
END:VEVENT
BEGIN:VEVENT
DTSTART;TZID=America/New_York:20250515T180000
DTEND;TZID=America/New_York:20250515T193000
DTSTAMP:20260423T194105
CREATED:20250211T140709Z
LAST-MODIFIED:20250211T141146Z
UID:10000612-1747332000-1747337400@sovaloudoun.org
SUMMARY:Softball - Cardinals
DESCRIPTION:
URL:https://sovaloudoun.org/event/first-day-of-cardinals-softball-2/2025-05-15/
ORGANIZER;CN="Paula Culvyhouse - Cardinals":MAILTO:softballcardinals@sovaloudoun.org
END:VEVENT
BEGIN:VEVENT
DTSTART;TZID=America/New_York:20250510T120000
DTEND;TZID=America/New_York:20250510T140000
DTSTAMP:20260423T194105
CREATED:20250211T143837Z
LAST-MODIFIED:20250211T143837Z
UID:10000672-1746878400-1746885600@sovaloudoun.org
SUMMARY:Softball - Cardinals
DESCRIPTION:
URL:https://sovaloudoun.org/event/softball-cardinals/2025-05-10/
ORGANIZER;CN="Paula Culvyhouse - Cardinals":MAILTO:softballcardinals@sovaloudoun.org
END:VEVENT
BEGIN:VEVENT
DTSTART;TZID=America/New_York:20250508T180000
DTEND;TZID=America/New_York:20250508T193000
DTSTAMP:20260423T194105
CREATED:20250211T140709Z
LAST-MODIFIED:20250211T141146Z
UID:10000611-1746727200-1746732600@sovaloudoun.org
SUMMARY:Softball - Cardinals
DESCRIPTION:
URL:https://sovaloudoun.org/event/first-day-of-cardinals-softball-2/2025-05-08/
ORGANIZER;CN="Paula Culvyhouse - Cardinals":MAILTO:softballcardinals@sovaloudoun.org
END:VEVENT
BEGIN:VEVENT
DTSTART;TZID=America/New_York:20250503T120000
DTEND;TZID=America/New_York:20250503T140000
DTSTAMP:20260423T194105
CREATED:20250211T143837Z
LAST-MODIFIED:20250211T143837Z
UID:10000671-1746273600-1746280800@sovaloudoun.org
SUMMARY:Softball - Cardinals
DESCRIPTION:
URL:https://sovaloudoun.org/event/softball-cardinals/2025-05-03/
ORGANIZER;CN="Paula Culvyhouse - Cardinals":MAILTO:softballcardinals@sovaloudoun.org
END:VEVENT
BEGIN:VEVENT
DTSTART;TZID=America/New_York:20250501T180000
DTEND;TZID=America/New_York:20250501T193000
DTSTAMP:20260423T194105
CREATED:20250211T140709Z
LAST-MODIFIED:20250211T141146Z
UID:10000610-1746122400-1746127800@sovaloudoun.org
SUMMARY:Softball - Cardinals
DESCRIPTION:
URL:https://sovaloudoun.org/event/first-day-of-cardinals-softball-2/2025-05-01/
ORGANIZER;CN="Paula Culvyhouse - Cardinals":MAILTO:softballcardinals@sovaloudoun.org
END:VEVENT
BEGIN:VEVENT
DTSTART;TZID=America/New_York:20250426T120000
DTEND;TZID=America/New_York:20250426T140000
DTSTAMP:20260423T194105
CREATED:20250211T143837Z
LAST-MODIFIED:20250211T143837Z
UID:10000670-1745668800-1745676000@sovaloudoun.org
SUMMARY:Softball - Cardinals
DESCRIPTION:
URL:https://sovaloudoun.org/event/softball-cardinals/2025-04-26/
ORGANIZER;CN="Paula Culvyhouse - Cardinals":MAILTO:softballcardinals@sovaloudoun.org
END:VEVENT
BEGIN:VEVENT
DTSTART;TZID=America/New_York:20250424T180000
DTEND;TZID=America/New_York:20250424T193000
DTSTAMP:20260423T194105
CREATED:20250211T140709Z
LAST-MODIFIED:20250211T141146Z
UID:10000609-1745517600-1745523000@sovaloudoun.org
SUMMARY:Softball - Cardinals
DESCRIPTION:
URL:https://sovaloudoun.org/event/first-day-of-cardinals-softball-2/2025-04-24/
ORGANIZER;CN="Paula Culvyhouse - Cardinals":MAILTO:softballcardinals@sovaloudoun.org
END:VEVENT
BEGIN:VEVENT
DTSTART;TZID=America/New_York:20250419T120000
DTEND;TZID=America/New_York:20250419T140000
DTSTAMP:20260423T194105
CREATED:20250211T143837Z
LAST-MODIFIED:20250211T143837Z
UID:10000669-1745064000-1745071200@sovaloudoun.org
SUMMARY:Softball - Cardinals
DESCRIPTION:
URL:https://sovaloudoun.org/event/softball-cardinals/2025-04-19/
ORGANIZER;CN="Paula Culvyhouse - Cardinals":MAILTO:softballcardinals@sovaloudoun.org
END:VEVENT
BEGIN:VEVENT
DTSTART;TZID=America/New_York:20250417T180000
DTEND;TZID=America/New_York:20250417T193000
DTSTAMP:20260423T194105
CREATED:20250211T140709Z
LAST-MODIFIED:20250211T141146Z
UID:10000608-1744912800-1744918200@sovaloudoun.org
SUMMARY:Softball - Cardinals
DESCRIPTION:
URL:https://sovaloudoun.org/event/first-day-of-cardinals-softball-2/2025-04-17/
ORGANIZER;CN="Paula Culvyhouse - Cardinals":MAILTO:softballcardinals@sovaloudoun.org
END:VEVENT
BEGIN:VEVENT
DTSTART;TZID=America/New_York:20250412T120000
DTEND;TZID=America/New_York:20250412T140000
DTSTAMP:20260423T194105
CREATED:20250211T143837Z
LAST-MODIFIED:20250211T143837Z
UID:10000668-1744459200-1744466400@sovaloudoun.org
SUMMARY:Softball - Cardinals
DESCRIPTION:
URL:https://sovaloudoun.org/event/softball-cardinals/2025-04-12/
ORGANIZER;CN="Paula Culvyhouse - Cardinals":MAILTO:softballcardinals@sovaloudoun.org
END:VEVENT
BEGIN:VEVENT
DTSTART;TZID=America/New_York:20250410T180000
DTEND;TZID=America/New_York:20250410T193000
DTSTAMP:20260423T194105
CREATED:20250211T140709Z
LAST-MODIFIED:20250211T141146Z
UID:10000607-1744308000-1744313400@sovaloudoun.org
SUMMARY:Softball - Cardinals
DESCRIPTION:
URL:https://sovaloudoun.org/event/first-day-of-cardinals-softball-2/2025-04-10/
ORGANIZER;CN="Paula Culvyhouse - Cardinals":MAILTO:softballcardinals@sovaloudoun.org
END:VEVENT
BEGIN:VEVENT
DTSTART;TZID=America/New_York:20250405T120000
DTEND;TZID=America/New_York:20250405T140000
DTSTAMP:20260423T194105
CREATED:20250211T143837Z
LAST-MODIFIED:20250211T143837Z
UID:10000667-1743854400-1743861600@sovaloudoun.org
SUMMARY:Softball - Cardinals
DESCRIPTION:
URL:https://sovaloudoun.org/event/softball-cardinals/2025-04-05/
ORGANIZER;CN="Paula Culvyhouse - Cardinals":MAILTO:softballcardinals@sovaloudoun.org
END:VEVENT
BEGIN:VEVENT
DTSTART;TZID=America/New_York:20250403T180000
DTEND;TZID=America/New_York:20250403T193000
DTSTAMP:20260423T194105
CREATED:20250211T140709Z
LAST-MODIFIED:20250211T141146Z
UID:10000585-1743703200-1743708600@sovaloudoun.org
SUMMARY:Softball - Cardinals
DESCRIPTION:
URL:https://sovaloudoun.org/event/first-day-of-cardinals-softball-2/2025-04-03/
ORGANIZER;CN="Paula Culvyhouse - Cardinals":MAILTO:softballcardinals@sovaloudoun.org
END:VEVENT
END:VCALENDAR