BEGIN:VCALENDAR
VERSION:2.0
PRODID:-//Special Olympics Loudoun County - ECPv6.15.11//NONSGML v1.0//EN
CALSCALE:GREGORIAN
METHOD:PUBLISH
X-ORIGINAL-URL:https://sovaloudoun.org
X-WR-CALDESC:Events for Special Olympics Loudoun County
REFRESH-INTERVAL;VALUE=DURATION:PT1H
X-Robots-Tag:noindex
X-PUBLISHED-TTL:PT1H
BEGIN:VTIMEZONE
TZID:America/New_York
BEGIN:DAYLIGHT
TZOFFSETFROM:-0500
TZOFFSETTO:-0400
TZNAME:EDT
DTSTART:20240310T070000
END:DAYLIGHT
BEGIN:STANDARD
TZOFFSETFROM:-0400
TZOFFSETTO:-0500
TZNAME:EST
DTSTART:20241103T060000
END:STANDARD
BEGIN:DAYLIGHT
TZOFFSETFROM:-0500
TZOFFSETTO:-0400
TZNAME:EDT
DTSTART:20250309T070000
END:DAYLIGHT
BEGIN:STANDARD
TZOFFSETFROM:-0400
TZOFFSETTO:-0500
TZNAME:EST
DTSTART:20251102T060000
END:STANDARD
BEGIN:DAYLIGHT
TZOFFSETFROM:-0500
TZOFFSETTO:-0400
TZNAME:EDT
DTSTART:20260308T070000
END:DAYLIGHT
BEGIN:STANDARD
TZOFFSETFROM:-0400
TZOFFSETTO:-0500
TZNAME:EST
DTSTART:20261101T060000
END:STANDARD
END:VTIMEZONE
BEGIN:VEVENT
DTSTART;TZID=America/New_York:20250619T183000
DTEND;TZID=America/New_York:20250619T193000
DTSTAMP:20260422T221506
CREATED:20240729T060059Z
LAST-MODIFIED:20250211T141629Z
UID:10000628-1750357800-1750361400@sovaloudoun.org
SUMMARY:Golf Skills
DESCRIPTION:
URL:https://sovaloudoun.org/event/first-day-of-golf-skills/2025-06-19/
LOCATION:Brambleton Golf Course\, 42180 Ryan Road\, Brambleton\, Virginia\, 20148
ORGANIZER;CN="Paul Spears":MAILTO:golfskills@sovaloudoun.org
END:VEVENT
BEGIN:VEVENT
DTSTART;TZID=America/New_York:20250620T183000
DTEND;TZID=America/New_York:20250620T193000
DTSTAMP:20260422T221506
CREATED:20250211T142240Z
LAST-MODIFIED:20250305T140355Z
UID:10000638-1750444200-1750447800@sovaloudoun.org
SUMMARY:Dance Club
DESCRIPTION:
URL:https://sovaloudoun.org/event/dance-club/2025-06-20/
LOCATION:Method Health Club\, 19945 Riverside Commons Plaza\, Asbhurn\, Virginia\, 20147
ORGANIZER;CN="Crystal Quigley":MAILTO:dance@sovaloudoun.org
END:VEVENT
BEGIN:VEVENT
DTSTART;TZID=America/New_York:20250621T090000
DTEND;TZID=America/New_York:20250621T110000
DTSTAMP:20260422T221506
CREATED:20250211T143651Z
LAST-MODIFIED:20250211T143651Z
UID:10000663-1750496400-1750503600@sovaloudoun.org
SUMMARY:Softball - Rangers
DESCRIPTION:
URL:https://sovaloudoun.org/event/softball-rangers/2025-06-21/
LOCATION:Virginia
ORGANIZER;CN="Tom Knight - Rangers":MAILTO:softballrangers@sovaloudoun.org
END:VEVENT
BEGIN:VEVENT
DTSTART;TZID=America/New_York:20250621T120000
DTEND;TZID=America/New_York:20250621T140000
DTSTAMP:20260422T221506
CREATED:20250211T143837Z
LAST-MODIFIED:20250211T143837Z
UID:10000678-1750507200-1750514400@sovaloudoun.org
SUMMARY:Softball - Cardinals
DESCRIPTION:
URL:https://sovaloudoun.org/event/softball-cardinals/2025-06-21/
LOCATION:Virginia
ORGANIZER;CN="Paula Culvyhouse - Cardinals":MAILTO:softballcardinals@sovaloudoun.org
END:VEVENT
BEGIN:VEVENT
DTSTART;TZID=America/New_York:20250623T183000
DTEND;TZID=America/New_York:20250623T203000
DTSTAMP:20260422T221506
CREATED:20250211T165402Z
LAST-MODIFIED:20250211T165510Z
UID:10000769-1750703400-1750710600@sovaloudoun.org
SUMMARY:Topgolf
DESCRIPTION:
URL:https://sovaloudoun.org/event/topgolf-2/2025-06-23/
LOCATION:Topgolf\, 20356 Commonwealth Center Drive\, Ashburn\, VA\, 20147\, United States
ORGANIZER;CN="Coach Wilson Chua":MAILTO:topgolf@sovaloudoun.org
END:VEVENT
BEGIN:VEVENT
DTSTART;TZID=America/New_York:20250625T183000
DTEND;TZID=America/New_York:20250625T200000
DTSTAMP:20260422T221506
CREATED:20240729T060410Z
LAST-MODIFIED:20250211T135446Z
UID:10000526-1750876200-1750881600@sovaloudoun.org
SUMMARY:Softball - Rangers
DESCRIPTION:
URL:https://sovaloudoun.org/event/first-day-of-rangers-softball/2025-06-25/
LOCATION:Virginia
ORGANIZER;CN="Tom Knight - Rangers":MAILTO:softballrangers@sovaloudoun.org
END:VEVENT
BEGIN:VEVENT
DTSTART;TZID=America/New_York:20250626T180000
DTEND;TZID=America/New_York:20250626T193000
DTSTAMP:20260422T221506
CREATED:20250211T140709Z
LAST-MODIFIED:20250211T141146Z
UID:10000618-1750960800-1750966200@sovaloudoun.org
SUMMARY:Softball - Cardinals
DESCRIPTION:
URL:https://sovaloudoun.org/event/first-day-of-cardinals-softball-2/2025-06-26/
LOCATION:Virginia
ORGANIZER;CN="Paula Culvyhouse - Cardinals":MAILTO:softballcardinals@sovaloudoun.org
END:VEVENT
BEGIN:VEVENT
DTSTART;TZID=America/New_York:20250626T183000
DTEND;TZID=America/New_York:20250626T193000
DTSTAMP:20260422T221506
CREATED:20240729T060059Z
LAST-MODIFIED:20250211T141629Z
UID:10000629-1750962600-1750966200@sovaloudoun.org
SUMMARY:Golf Skills
DESCRIPTION:
URL:https://sovaloudoun.org/event/first-day-of-golf-skills/2025-06-26/
LOCATION:Brambleton Golf Course\, 42180 Ryan Road\, Brambleton\, Virginia\, 20148
ORGANIZER;CN="Paul Spears":MAILTO:golfskills@sovaloudoun.org
END:VEVENT
BEGIN:VEVENT
DTSTART;TZID=America/New_York:20250627T183000
DTEND;TZID=America/New_York:20250627T193000
DTSTAMP:20260422T221506
CREATED:20250211T142240Z
LAST-MODIFIED:20250305T140355Z
UID:10000639-1751049000-1751052600@sovaloudoun.org
SUMMARY:Dance Club
DESCRIPTION:
URL:https://sovaloudoun.org/event/dance-club/2025-06-27/
LOCATION:Method Health Club\, 19945 Riverside Commons Plaza\, Asbhurn\, Virginia\, 20147
ORGANIZER;CN="Crystal Quigley":MAILTO:dance@sovaloudoun.org
END:VEVENT
BEGIN:VEVENT
DTSTART;TZID=America/New_York:20250628T090000
DTEND;TZID=America/New_York:20250628T110000
DTSTAMP:20260422T221506
CREATED:20250211T143651Z
LAST-MODIFIED:20250211T143651Z
UID:10000664-1751101200-1751108400@sovaloudoun.org
SUMMARY:Softball - Rangers
DESCRIPTION:
URL:https://sovaloudoun.org/event/softball-rangers/2025-06-28/
LOCATION:Virginia
ORGANIZER;CN="Tom Knight - Rangers":MAILTO:softballrangers@sovaloudoun.org
END:VEVENT
BEGIN:VEVENT
DTSTART;TZID=America/New_York:20250628T120000
DTEND;TZID=America/New_York:20250628T140000
DTSTAMP:20260422T221506
CREATED:20250211T143837Z
LAST-MODIFIED:20250211T143837Z
UID:10000679-1751112000-1751119200@sovaloudoun.org
SUMMARY:Softball - Cardinals
DESCRIPTION:
URL:https://sovaloudoun.org/event/softball-cardinals/2025-06-28/
LOCATION:Virginia
ORGANIZER;CN="Paula Culvyhouse - Cardinals":MAILTO:softballcardinals@sovaloudoun.org
END:VEVENT
BEGIN:VEVENT
DTSTART;TZID=America/New_York:20250630T183000
DTEND;TZID=America/New_York:20250630T203000
DTSTAMP:20260422T221506
CREATED:20250211T165402Z
LAST-MODIFIED:20250211T165510Z
UID:10000770-1751308200-1751315400@sovaloudoun.org
SUMMARY:Topgolf
DESCRIPTION:
URL:https://sovaloudoun.org/event/topgolf-2/2025-06-30/
LOCATION:Topgolf\, 20356 Commonwealth Center Drive\, Ashburn\, VA\, 20147\, United States
ORGANIZER;CN="Coach Wilson Chua":MAILTO:topgolf@sovaloudoun.org
END:VEVENT
BEGIN:VEVENT
DTSTART;TZID=America/New_York:20250702T183000
DTEND;TZID=America/New_York:20250702T200000
DTSTAMP:20260422T221506
CREATED:20240729T060410Z
LAST-MODIFIED:20250211T135446Z
UID:10000527-1751481000-1751486400@sovaloudoun.org
SUMMARY:Softball - Rangers
DESCRIPTION:
URL:https://sovaloudoun.org/event/first-day-of-rangers-softball/2025-07-02/
LOCATION:Virginia
ORGANIZER;CN="Tom Knight - Rangers":MAILTO:softballrangers@sovaloudoun.org
END:VEVENT
BEGIN:VEVENT
DTSTART;TZID=America/New_York:20250703T180000
DTEND;TZID=America/New_York:20250703T193000
DTSTAMP:20260422T221506
CREATED:20250211T140709Z
LAST-MODIFIED:20250211T141146Z
UID:10000619-1751565600-1751571000@sovaloudoun.org
SUMMARY:Softball - Cardinals
DESCRIPTION:
URL:https://sovaloudoun.org/event/first-day-of-cardinals-softball-2/2025-07-03/
LOCATION:Virginia
ORGANIZER;CN="Paula Culvyhouse - Cardinals":MAILTO:softballcardinals@sovaloudoun.org
END:VEVENT
BEGIN:VEVENT
DTSTART;TZID=America/New_York:20250705T090000
DTEND;TZID=America/New_York:20250705T110000
DTSTAMP:20260422T221506
CREATED:20250211T143651Z
LAST-MODIFIED:20250211T143651Z
UID:10000665-1751706000-1751713200@sovaloudoun.org
SUMMARY:Softball - Rangers
DESCRIPTION:
URL:https://sovaloudoun.org/event/softball-rangers/2025-07-05/
LOCATION:Virginia
ORGANIZER;CN="Tom Knight - Rangers":MAILTO:softballrangers@sovaloudoun.org
END:VEVENT
BEGIN:VEVENT
DTSTART;TZID=America/New_York:20250705T120000
DTEND;TZID=America/New_York:20250705T140000
DTSTAMP:20260422T221506
CREATED:20250211T143837Z
LAST-MODIFIED:20250211T143837Z
UID:10000680-1751716800-1751724000@sovaloudoun.org
SUMMARY:Softball - Cardinals
DESCRIPTION:
URL:https://sovaloudoun.org/event/softball-cardinals/2025-07-05/
LOCATION:Virginia
ORGANIZER;CN="Paula Culvyhouse - Cardinals":MAILTO:softballcardinals@sovaloudoun.org
END:VEVENT
BEGIN:VEVENT
DTSTART;TZID=America/New_York:20250709T183000
DTEND;TZID=America/New_York:20250709T200000
DTSTAMP:20260422T221506
CREATED:20240729T060410Z
LAST-MODIFIED:20250211T135446Z
UID:10000528-1752085800-1752091200@sovaloudoun.org
SUMMARY:Softball - Rangers
DESCRIPTION:
URL:https://sovaloudoun.org/event/first-day-of-rangers-softball/2025-07-09/
LOCATION:Virginia
ORGANIZER;CN="Tom Knight - Rangers":MAILTO:softballrangers@sovaloudoun.org
END:VEVENT
BEGIN:VEVENT
DTSTART;TZID=America/New_York:20250710T180000
DTEND;TZID=America/New_York:20250710T193000
DTSTAMP:20260422T221506
CREATED:20250211T140709Z
LAST-MODIFIED:20250211T141146Z
UID:10000620-1752170400-1752175800@sovaloudoun.org
SUMMARY:Softball - Cardinals
DESCRIPTION:
URL:https://sovaloudoun.org/event/first-day-of-cardinals-softball-2/2025-07-10/
LOCATION:Virginia
ORGANIZER;CN="Paula Culvyhouse - Cardinals":MAILTO:softballcardinals@sovaloudoun.org
END:VEVENT
BEGIN:VEVENT
DTSTART;TZID=America/New_York:20250712T090000
DTEND;TZID=America/New_York:20250712T120000
DTSTAMP:20260422T221506
CREATED:20240726T075944Z
LAST-MODIFIED:20250625T172048Z
UID:10000051-1752310800-1752321600@sovaloudoun.org
SUMMARY:The Battle of the Golden Helmets featuring SOVAL's Softball teams
DESCRIPTION:Please come cheer on our teams!  Games are from 9:00 to 12:00.
URL:https://sovaloudoun.org/event/the-battle-of-the-golden-helmets-at-potomac-green-community-park-contact-paula-culvyhouse/
LOCATION:Potomac Green Neighborhood Park\, 20750 Marblehead Drive\, Ashburn\, VA\, 20147\, United States
CATEGORIES:Tournament
ORGANIZER;CN="Paula Culvyhouse - Cardinals":MAILTO:softballcardinals@sovaloudoun.org
END:VEVENT
BEGIN:VEVENT
DTSTART;TZID=America/New_York:20250715T181500
DTEND;TZID=America/New_York:20250715T220000
DTSTAMP:20260422T221506
CREATED:20240729T054849Z
LAST-MODIFIED:20250703T204653Z
UID:10000056-1752603300-1752616800@sovaloudoun.org
SUMMARY:Purcellville Cannons baseball game
DESCRIPTION:TAKE ME OUT TO THE BALL GAME!   All Special Olympics athletes wearing a Special Olympics jersey will get into the game for free.  Cheer on the hometown team\, buy a hot dog\, hang out with your friends\, maybe even catch a fly ball.  Arrive at the ball field at 6:15.  We will be introduced before the game on the field and then sit together and watch the baseball game!
URL:https://sovaloudoun.org/event/purcellville-cannons-baseball-game-soval-night-700-pm-615-arrival-firemans-field-purcellville/
LOCATION:Firemans Field\, 250 S. Nursery Ave\, Purcellville\, Virginia\, 20132
CATEGORIES:Event
ATTACH;FMTTYPE=image/jpeg:https://sovaloudoun.org/wp-content/uploads/2023/04/20180713_184210-1.jpg
ORGANIZER;CN="Paula Culvyhouse - Cardinals":MAILTO:softballcardinals@sovaloudoun.org
END:VEVENT
BEGIN:VEVENT
DTSTART;TZID=America/New_York:20250823T094500
DTEND;TZID=America/New_York:20250823T110000
DTSTAMP:20260422T221506
CREATED:20250813T154806Z
LAST-MODIFIED:20250813T154806Z
UID:10000963-1755942300-1755946800@sovaloudoun.org
SUMMARY:Soccer - Eastern Loudoun
DESCRIPTION:Come join us out on the soccer field this fall. Practices will be held on Saturday’s at Newton Lee Elementary starting August 23rd- October 25th from 9:45-11:15am.
URL:https://sovaloudoun.org/event/soccer-eastern-loudoun-2/2025-08-23/
LOCATION:Newton Lee Elementary School\, 43335 Gloucester Pkwy\, Ashburn\, Virginia\, 20147
ORGANIZER;CN="Bob Doyle and Sean Mooney":MAILTO:soccer@sovaloudoun.org
END:VEVENT
BEGIN:VEVENT
DTSTART;TZID=America/New_York:20250823T130000
DTEND;TZID=America/New_York:20250823T141500
DTSTAMP:20260422T221506
CREATED:20250813T155939Z
LAST-MODIFIED:20250813T155939Z
UID:10001003-1755954000-1755958500@sovaloudoun.org
SUMMARY:Volleyball (Traditional)
DESCRIPTION:Join our competitive volleyball team. Athletes will practice weekly and develop their skills on a competitive level. Practices will be held on Saturdays at Trailside Middle School starting August 23rd-November 1st from 1-2:15pm.
URL:https://sovaloudoun.org/event/volleyball-traditional-2/2025-08-23/
LOCATION:Trailside Middle School\, 20325 Claiborne Parkway\, Ashburn\, Virginia\, 20147
ORGANIZER;CN="Olivia Kurzeja":MAILTO:volleyball@sovaloudoun.org
END:VEVENT
BEGIN:VEVENT
DTSTART;TZID=America/New_York:20250823T130000
DTEND;TZID=America/New_York:20250823T210000
DTSTAMP:20260422T221506
CREATED:20250813T173740Z
LAST-MODIFIED:20250813T173740Z
UID:10001014-1755954000-1755982800@sovaloudoun.org
SUMMARY:Family Fest LoCo
DESCRIPTION:Saturday\, August 23\n1:00 PM ‘TIL 9:00 PM \nDouglass Recreation Center \nWe’ve been invited to join in the fun! SOVA Loudoun will be there with an information table\, and our athletes have been invited to join in the sports activities! There will be live music\, dancing\, food trucks\, and more for our families. It’s free.  Check out the schedule HERE.
URL:https://sovaloudoun.org/event/family-fest-loco/
LOCATION:Douglass Recreation Center
CATEGORIES:Event
END:VEVENT
BEGIN:VEVENT
DTSTART;TZID=America/New_York:20250823T143000
DTEND;TZID=America/New_York:20250823T153000
DTSTAMP:20260422T221506
CREATED:20250813T155612Z
LAST-MODIFIED:20250813T155612Z
UID:10000992-1755959400-1755963000@sovaloudoun.org
SUMMARY:Volleyball (Modified)
DESCRIPTION:Special Olympics modified volleyball uses modified rules to make the sport more accessible for athletes of all abilities. Practices will be held on Saturday’s starting August 23-November 1st at Trailside Middle School from 2:30-3:30pm.
URL:https://sovaloudoun.org/event/volleyball-modified-2/2025-08-23/
LOCATION:Trailside Middle School\, 20325 Claiborne Parkway\, Ashburn\, Virginia\, 20147
ORGANIZER;CN="Olivia Kurzeja":MAILTO:volleyball@sovaloudoun.org
END:VEVENT
BEGIN:VEVENT
DTSTART;TZID=America/New_York:20250830T083000
DTEND;TZID=America/New_York:20250830T093000
DTSTAMP:20260422T221506
CREATED:20250813T154012Z
LAST-MODIFIED:20250813T154012Z
UID:10000903-1756542600-1756546200@sovaloudoun.org
SUMMARY:Cycling
DESCRIPTION:Come learn the basics of the sport while enjoying the beautiful fall weather. This program focuses on skill development and refinement. All skills levels are welcome! This program is hosted outdoors and practice dates could be impacted by weather. Practices will be held on Saturday’s in the parking lot of Trailside Middle School starting August 30th- October 18th from 8:30-9:30am.
URL:https://sovaloudoun.org/event/cycling/2025-08-30/
LOCATION:Trailside Middle School\, 20325 Claiborne Parkway\, Ashburn\, Virginia\, 20147
ORGANIZER;CN="Amy Levinrad":MAILTO:cycling@sovaloudoun.org
END:VEVENT
BEGIN:VEVENT
DTSTART;TZID=America/New_York:20250830T094500
DTEND;TZID=America/New_York:20250830T110000
DTSTAMP:20260422T221506
CREATED:20250813T154806Z
LAST-MODIFIED:20250813T154806Z
UID:10000964-1756547100-1756551600@sovaloudoun.org
SUMMARY:Soccer - Eastern Loudoun
DESCRIPTION:Come join us out on the soccer field this fall. Practices will be held on Saturday’s at Newton Lee Elementary starting August 23rd- October 25th from 9:45-11:15am.
URL:https://sovaloudoun.org/event/soccer-eastern-loudoun-2/2025-08-30/
LOCATION:Newton Lee Elementary School\, 43335 Gloucester Pkwy\, Ashburn\, Virginia\, 20147
ORGANIZER;CN="Bob Doyle and Sean Mooney":MAILTO:soccer@sovaloudoun.org
END:VEVENT
BEGIN:VEVENT
DTSTART;TZID=America/New_York:20250830T110000
DTEND;TZID=America/New_York:20250830T120000
DTSTAMP:20260422T221506
CREATED:20250813T155030Z
LAST-MODIFIED:20250813T155030Z
UID:10000973-1756551600-1756555200@sovaloudoun.org
SUMMARY:Pickleball - Dulles South
DESCRIPTION:Athletes of all abilities can play pickleball. It’s a fun way to get in your daily exercise while making new friends. Due to space limitation\, all athletes are required to commit to at least 75% attendance. If you are registering for Dulles South Pickleball please do not register for other Special Olympics Pickleball offerings. Practices will be held on Saturday’s in the gym at Dulles South Rec Center starting August 30th- October 25th from 11am-12pm.
URL:https://sovaloudoun.org/event/pickleball-dulles-south-3/2025-08-30/
LOCATION:Dulles South Recreation Center\, 24950 Riding Center Drive\, South Riding\, Virginia\, 20152
ORGANIZER;CN="Nasir - Pickleball":MAILTO:dspickleball@sovaloudoun.org
END:VEVENT
BEGIN:VEVENT
DTSTART;TZID=America/New_York:20250830T130000
DTEND;TZID=America/New_York:20250830T141500
DTSTAMP:20260422T221506
CREATED:20250813T155939Z
LAST-MODIFIED:20250813T155939Z
UID:10001004-1756558800-1756563300@sovaloudoun.org
SUMMARY:Volleyball (Traditional)
DESCRIPTION:Join our competitive volleyball team. Athletes will practice weekly and develop their skills on a competitive level. Practices will be held on Saturdays at Trailside Middle School starting August 23rd-November 1st from 1-2:15pm.
URL:https://sovaloudoun.org/event/volleyball-traditional-2/2025-08-30/
LOCATION:Trailside Middle School\, 20325 Claiborne Parkway\, Ashburn\, Virginia\, 20147
ORGANIZER;CN="Olivia Kurzeja":MAILTO:volleyball@sovaloudoun.org
END:VEVENT
BEGIN:VEVENT
DTSTART;TZID=America/New_York:20250830T143000
DTEND;TZID=America/New_York:20250830T153000
DTSTAMP:20260422T221506
CREATED:20250813T155612Z
LAST-MODIFIED:20250813T155612Z
UID:10000993-1756564200-1756567800@sovaloudoun.org
SUMMARY:Volleyball (Modified)
DESCRIPTION:Special Olympics modified volleyball uses modified rules to make the sport more accessible for athletes of all abilities. Practices will be held on Saturday’s starting August 23-November 1st at Trailside Middle School from 2:30-3:30pm.
URL:https://sovaloudoun.org/event/volleyball-modified-2/2025-08-30/
LOCATION:Trailside Middle School\, 20325 Claiborne Parkway\, Ashburn\, Virginia\, 20147
ORGANIZER;CN="Olivia Kurzeja":MAILTO:volleyball@sovaloudoun.org
END:VEVENT
BEGIN:VEVENT
DTSTART;TZID=America/New_York:20250901T110000
DTEND;TZID=America/New_York:20250901T150000
DTSTAMP:20260422T221506
CREATED:20250813T174138Z
LAST-MODIFIED:20250901T111006Z
UID:10001015-1756724400-1756738800@sovaloudoun.org
SUMMARY:Loudoun County KidsFest
DESCRIPTION:Your family is invited to Loudoun County’s annual Kids Fest!\nEnjoy tons of family-friendly activities at the Segra Field Parking Lots on Labor Day!  Special Olympics will have a tent on site.  Come\, find us and say Hello!
URL:https://sovaloudoun.org/event/loudoun-county-kidsfest/
LOCATION:Segra Field\, 42095 Loudoun United Dr\, Leesburg\, 20175
END:VEVENT
END:VCALENDAR