BEGIN:VCALENDAR
VERSION:2.0
PRODID:-//Special Olympics Loudoun County - ECPv6.15.11//NONSGML v1.0//EN
CALSCALE:GREGORIAN
METHOD:PUBLISH
X-ORIGINAL-URL:https://sovaloudoun.org
X-WR-CALDESC:Events for Special Olympics Loudoun County
REFRESH-INTERVAL;VALUE=DURATION:PT1H
X-Robots-Tag:noindex
X-PUBLISHED-TTL:PT1H
BEGIN:VTIMEZONE
TZID:America/New_York
BEGIN:DAYLIGHT
TZOFFSETFROM:-0500
TZOFFSETTO:-0400
TZNAME:EDT
DTSTART:20250309T070000
END:DAYLIGHT
BEGIN:STANDARD
TZOFFSETFROM:-0400
TZOFFSETTO:-0500
TZNAME:EST
DTSTART:20251102T060000
END:STANDARD
BEGIN:DAYLIGHT
TZOFFSETFROM:-0500
TZOFFSETTO:-0400
TZNAME:EDT
DTSTART:20260308T070000
END:DAYLIGHT
BEGIN:STANDARD
TZOFFSETFROM:-0400
TZOFFSETTO:-0500
TZNAME:EST
DTSTART:20261101T060000
END:STANDARD
BEGIN:DAYLIGHT
TZOFFSETFROM:-0500
TZOFFSETTO:-0400
TZNAME:EDT
DTSTART:20270314T070000
END:DAYLIGHT
BEGIN:STANDARD
TZOFFSETFROM:-0400
TZOFFSETTO:-0500
TZNAME:EST
DTSTART:20271107T060000
END:STANDARD
END:VTIMEZONE
BEGIN:VEVENT
DTSTART;TZID=America/New_York:20260531T100000
DTEND;TZID=America/New_York:20260531T130000
DTSTAMP:20260423T045255
CREATED:20260217T003025Z
LAST-MODIFIED:20260217T003150Z
UID:10001086-1780221600-1780232400@sovaloudoun.org
SUMMARY:Bowling
DESCRIPTION:Bowling is our most popular sport in Loudoun. Come spend your Sunday afternoon with other athletes practicing your bowling skills. Learn the basics of the game while getting in physical exercise.
URL:https://sovaloudoun.org/event/bowling-3-2/2026-05-31/
LOCATION:The Branch Bowling Alley\, 49 Catoctin Circle SE\, Leesburg\, Virginia\, 20175
ORGANIZER;CN="TJ Delitta":MAILTO:bowling@sovaloudoun.org
END:VEVENT
BEGIN:VEVENT
DTSTART;TZID=America/New_York:20260531T160000
DTEND;TZID=America/New_York:20260531T170000
DTSTAMP:20260423T045255
CREATED:20260217T002542Z
LAST-MODIFIED:20260217T002717Z
UID:10001053-1780243200-1780246800@sovaloudoun.org
SUMMARY:Cycling
DESCRIPTION:Come learn the basics of the sport while enjoying the beautiful fall weather. This program focuses on skill development and refinement. All skills levels are welcome! This program is hosted outdoors and practice dates could be impacted by weather.
URL:https://sovaloudoun.org/event/cycling-2/2026-05-31/
LOCATION:Trailside Middle School\, 20325 Claiborne Parkway\, Ashburn\, Virginia\, 20147
ORGANIZER;CN="Amy Levinrad":MAILTO:cycling@sovaloudoun.org
END:VEVENT
BEGIN:VEVENT
DTSTART;VALUE=DATE:20260605
DTEND;VALUE=DATE:20260608
DTSTAMP:20260423T045255
CREATED:20240726T075825Z
LAST-MODIFIED:20260421T141857Z
UID:10000049-1780617600-1780876799@sovaloudoun.org
SUMMARY:Summer Games - Richmond
DESCRIPTION:Summer Games in Richmond.  More to come.
URL:https://sovaloudoun.org/event/summer-games-richmond/
LOCATION:University of Richmond
CATEGORIES:Event
ATTACH;FMTTYPE=image/jpeg:https://sovaloudoun.org/wp-content/uploads/2023/06/volunteer.jpg
ORGANIZER;CN="Wilson Chua-Chair":MAILTO:Chair@sovaloudoun.org
END:VEVENT
BEGIN:VEVENT
DTSTART;TZID=America/New_York:20260609T183000
DTEND;TZID=America/New_York:20260609T200000
DTSTAMP:20260423T045255
CREATED:20260405T104319Z
LAST-MODIFIED:20260405T104319Z
UID:10001098-1781029800-1781035200@sovaloudoun.org
SUMMARY:Council Elections
DESCRIPTION:
URL:https://sovaloudoun.org/event/council-elections/
LOCATION:Virginia
ORGANIZER;CN="Wilson Chua-Chair":MAILTO:Chair@sovaloudoun.org
END:VEVENT
BEGIN:VEVENT
DTSTART;TZID=America/New_York:20260613T130000
DTEND;TZID=America/New_York:20260613T150000
DTSTAMP:20260423T045255
CREATED:20260405T104433Z
LAST-MODIFIED:20260405T104433Z
UID:10001099-1781355600-1781362800@sovaloudoun.org
SUMMARY:End of Season Party
DESCRIPTION:
URL:https://sovaloudoun.org/event/end-of-season-party-2/
LOCATION:Virginia
END:VEVENT
BEGIN:VEVENT
DTSTART;TZID=America/New_York:20260620T080000
DTEND;TZID=America/New_York:20260626T170000
DTSTAMP:20260423T045255
CREATED:20260421T161216Z
LAST-MODIFIED:20260421T161216Z
UID:10001101-1781942400-1782493200@sovaloudoun.org
SUMMARY:USA GAMES
DESCRIPTION:
URL:https://sovaloudoun.org/event/usa-games/
LOCATION:Virginia
CATEGORIES:Tournament
END:VEVENT
BEGIN:VEVENT
DTSTART;TZID=America/New_York:20260704T080000
DTEND;TZID=America/New_York:20260704T110000
DTSTAMP:20260423T045255
CREATED:20250625T134930Z
LAST-MODIFIED:20260421T135228Z
UID:10000790-1783152000-1783162800@sovaloudoun.org
SUMMARY:4th of July Parade
DESCRIPTION:Parade Day Timeline: \nSOVAL will Meet between 8 AM and 9:15 AM at the festival field. You must enter from King St. See the attached map (attached document. \n– All participants arriving in a vehicle (walkers\, floats\, drop-offs\, etc.) must enter the front field. You will access the field from King St. There is no access from Ida Lee Drive. Please see the attached map.\n– Staff will be able to help you out. Please follow the directions of the staff\n– If you are walking and have no motorized float vehicles in the parade with you\, follow the direction of staff to park in the Festival Field parking area and then line up with parade participants. (See map)\n– All drop-offs must pull into the parking field and drive to the parking/drop-off area (see map). Cars are not\npermitted to drop participants off on the side of the road (King St or Ida Lee Dr.) \n– Drop-offs:\n– You may enter to drop off a participant and exit the field before 9:30 AM.\n– You may enter\, park your vehicle\, walk a participant to their party\, and then return to your vehicle to exit the field before 9:30 AM.\n– If you have a motorized float vehicle\, pull into the Festival Field through the gate on King St. Event staff will direct you where to go.\n– To avoid traffic delays\, we recommend that you arrive early. \n9:30 AM: Streets on King St from Battlefield Parkway to Fairfax Drive close.\n– All parade participants must be in the Festival Field by 9:15 AM.\n\n \n10 AM: Parade procession begins. \nNOTE: The parade will begin on time. However\, it will proceed slowly\, and it will take time for all participants to enter King Street from the festival field. \nYour parade conclusion: \n– The parade route is one mile and ends just before Fairfax St. (NOTED ON BELOW MAP) \n– NEW FOR 2025: At the end of the parade route you will be directed into lanes for exiting the parade route –We will NOT be utilizing Fairfax Dr. \n– Please keep moving and follow the direction of staff. \n– All floats must unload prior to exiting the parade route \n– All vehicles must take a left turn on Catoctin Cir. when exiting the parade route. \nThere is no return transportation provided back to Ida Lee Festival Field. Please plan accordingly. \n 
URL:https://sovaloudoun.org/event/4th-of-july-parade-in-leesburg/
LOCATION:Ida Lee Park\, 60 Ida Lee Drive NW\, Leesburg\, Virginia\, 20176
ATTACH;FMTTYPE=image/jpeg:https://sovaloudoun.org/wp-content/uploads/2025/06/IMG_0489-scaled.jpg
ORGANIZER;CN="Nasir Ahmed":MAILTO:outreach@sovaloudoun.org
END:VEVENT
END:VCALENDAR