BEGIN:VCALENDAR
VERSION:2.0
PRODID:-//Special Olympics Loudoun County - ECPv6.15.11//NONSGML v1.0//EN
CALSCALE:GREGORIAN
METHOD:PUBLISH
X-WR-CALNAME:Special Olympics Loudoun County
X-ORIGINAL-URL:https://sovaloudoun.org
X-WR-CALDESC:Events for Special Olympics Loudoun County
REFRESH-INTERVAL;VALUE=DURATION:PT1H
X-Robots-Tag:noindex
X-PUBLISHED-TTL:PT1H
BEGIN:VTIMEZONE
TZID:America/New_York
BEGIN:DAYLIGHT
TZOFFSETFROM:-0500
TZOFFSETTO:-0400
TZNAME:EDT
DTSTART:20240310T070000
END:DAYLIGHT
BEGIN:STANDARD
TZOFFSETFROM:-0400
TZOFFSETTO:-0500
TZNAME:EST
DTSTART:20241103T060000
END:STANDARD
BEGIN:DAYLIGHT
TZOFFSETFROM:-0500
TZOFFSETTO:-0400
TZNAME:EDT
DTSTART:20250309T070000
END:DAYLIGHT
BEGIN:STANDARD
TZOFFSETFROM:-0400
TZOFFSETTO:-0500
TZNAME:EST
DTSTART:20251102T060000
END:STANDARD
BEGIN:DAYLIGHT
TZOFFSETFROM:-0500
TZOFFSETTO:-0400
TZNAME:EDT
DTSTART:20260308T070000
END:DAYLIGHT
BEGIN:STANDARD
TZOFFSETFROM:-0400
TZOFFSETTO:-0500
TZNAME:EST
DTSTART:20261101T060000
END:STANDARD
END:VTIMEZONE
BEGIN:VEVENT
DTSTART;TZID=America/New_York:20250704T080000
DTEND;TZID=America/New_York:20250704T110000
DTSTAMP:20260421T051659
CREATED:20250625T134930Z
LAST-MODIFIED:20250625T134930Z
UID:10000790-1751616000-1751626800@sovaloudoun.org
SUMMARY:4th of July Parade in Leesburg
DESCRIPTION:Parade Day Timeline: \nSOVAL will Meet between 8 AM and 9:15 AM at the festival field. You must enter from King St. See the attached map (attached document. \n– All participants arriving in a vehicle (walkers\, floats\, drop-offs\, etc.) must enter the front field. You will access the field from King St. There is no access from Ida Lee Drive. Please see the attached map.\n– Staff will be able to help you out. Please follow the directions of the staff\n– If you are walking and have no motorized float vehicles in the parade with you\, follow the direction of staff to park in the Festival Field parking area and then line up with parade participants. (See map)\n– All drop-offs must pull into the parking field and drive to the parking/drop-off area (see map). Cars are not\npermitted to drop participants off on the side of the road (King St or Ida Lee Dr.) \n– Drop-offs:\n– You may enter to drop off a participant and exit the field before 9:30 AM.\n– You may enter\, park your vehicle\, walk a participant to their party\, and then return to your vehicle to exit the field before 9:30 AM.\n– If you have a motorized float vehicle\, pull into the Festival Field through the gate on King St. Event staff will direct you where to go.\n– To avoid traffic delays\, we recommend that you arrive early. \n9:30 AM: Streets on King St from Battlefield Parkway to Fairfax Drive close.\n– All parade participants must be in the Festival Field by 9:15 AM.\n\n \n10 AM: Parade procession begins. \nNOTE: The parade will begin on time. However\, it will proceed slowly\, and it will take time for all participants to enter King Street from the festival field. \nYour parade conclusion: \n– The parade route is one mile and ends just before Fairfax St. (NOTED ON BELOW MAP) \n– NEW FOR 2025: At the end of the parade route you will be directed into lanes for exiting the parade route –We will NOT be utilizing Fairfax Dr. \n– Please keep moving and follow the direction of staff. \n– All floats must unload prior to exiting the parade route \n– All vehicles must take a left turn on Catoctin Cir. when exiting the parade route. \nThere is no return transportation provided back to Ida Lee Festival Field. Please plan accordingly. \n 
URL:https://sovaloudoun.org/event/4th-of-july-parade-in-leesburg/
LOCATION:Ida Lee Park\, 60 Ida Lee Drive NW\, Leesburg\, Virginia\, 20176
CATEGORIES:Event
ATTACH;FMTTYPE=image/jpeg:https://sovaloudoun.org/wp-content/uploads/2025/06/IMG_0489-scaled.jpg
ORGANIZER;CN="Nasir Ahmed":MAILTO:outreach@sovaloudoun.org
END:VEVENT
END:VCALENDAR