BEGIN:VCALENDAR
VERSION:2.0
PRODID:-//Special Olympics Loudoun County - ECPv6.15.11//NONSGML v1.0//EN
CALSCALE:GREGORIAN
METHOD:PUBLISH
X-WR-CALNAME:Special Olympics Loudoun County
X-ORIGINAL-URL:https://sovaloudoun.org
X-WR-CALDESC:Events for Special Olympics Loudoun County
REFRESH-INTERVAL;VALUE=DURATION:PT1H
X-Robots-Tag:noindex
X-PUBLISHED-TTL:PT1H
BEGIN:VTIMEZONE
TZID:America/New_York
BEGIN:DAYLIGHT
TZOFFSETFROM:-0500
TZOFFSETTO:-0400
TZNAME:EDT
DTSTART:20240310T070000
END:DAYLIGHT
BEGIN:STANDARD
TZOFFSETFROM:-0400
TZOFFSETTO:-0500
TZNAME:EST
DTSTART:20241103T060000
END:STANDARD
BEGIN:DAYLIGHT
TZOFFSETFROM:-0500
TZOFFSETTO:-0400
TZNAME:EDT
DTSTART:20250309T070000
END:DAYLIGHT
BEGIN:STANDARD
TZOFFSETFROM:-0400
TZOFFSETTO:-0500
TZNAME:EST
DTSTART:20251102T060000
END:STANDARD
BEGIN:DAYLIGHT
TZOFFSETFROM:-0500
TZOFFSETTO:-0400
TZNAME:EDT
DTSTART:20260308T070000
END:DAYLIGHT
BEGIN:STANDARD
TZOFFSETFROM:-0400
TZOFFSETTO:-0500
TZNAME:EST
DTSTART:20261101T060000
END:STANDARD
END:VTIMEZONE
BEGIN:VEVENT
DTSTART;TZID=America/New_York:20250411T093000
DTEND;TZID=America/New_York:20250411T120000
DTSTAMP:20260423T072819
CREATED:20250326T235028Z
LAST-MODIFIED:20250326T235200Z
UID:10000774-1744363800-1744372800@sovaloudoun.org
SUMMARY:Park View Feet Meet at Claude Moore Rec Ctr
DESCRIPTION:“Feet Meets” are a way for preschool to high schools to engage students with and without intellectual disabilities. Students practice the sports stations at their schools for six – eight weeks in preparation for the culminating Feet Meet. \nFeet Meets are school events that occur during the school day. \nIf you have questions please email or call Margaret White or Kelly Long
URL:https://sovaloudoun.org/event/park-view-feet-meet-at-claude-moore-rec-ctr/
LOCATION:Claude Moore Recreation Center\, 46105 Loudoun Park Lane\, STERLING\, VA\, 20164\, United States
CATEGORIES:Event
END:VEVENT
END:VCALENDAR