BEGIN:VCALENDAR
VERSION:2.0
PRODID:-//Special Olympics Loudoun County - ECPv6.15.11//NONSGML v1.0//EN
CALSCALE:GREGORIAN
METHOD:PUBLISH
X-ORIGINAL-URL:https://sovaloudoun.org
X-WR-CALDESC:Events for Special Olympics Loudoun County
REFRESH-INTERVAL;VALUE=DURATION:PT1H
X-Robots-Tag:noindex
X-PUBLISHED-TTL:PT1H
BEGIN:VTIMEZONE
TZID:America/New_York
BEGIN:DAYLIGHT
TZOFFSETFROM:-0500
TZOFFSETTO:-0400
TZNAME:EDT
DTSTART:20240310T070000
END:DAYLIGHT
BEGIN:STANDARD
TZOFFSETFROM:-0400
TZOFFSETTO:-0500
TZNAME:EST
DTSTART:20241103T060000
END:STANDARD
BEGIN:DAYLIGHT
TZOFFSETFROM:-0500
TZOFFSETTO:-0400
TZNAME:EDT
DTSTART:20250309T070000
END:DAYLIGHT
BEGIN:STANDARD
TZOFFSETFROM:-0400
TZOFFSETTO:-0500
TZNAME:EST
DTSTART:20251102T060000
END:STANDARD
BEGIN:DAYLIGHT
TZOFFSETFROM:-0500
TZOFFSETTO:-0400
TZNAME:EDT
DTSTART:20260308T070000
END:DAYLIGHT
BEGIN:STANDARD
TZOFFSETFROM:-0400
TZOFFSETTO:-0500
TZNAME:EST
DTSTART:20261101T060000
END:STANDARD
END:VTIMEZONE
BEGIN:VEVENT
DTSTART;TZID=America/New_York:20250308T171500
DTEND;TZID=America/New_York:20250308T183000
DTSTAMP:20260423T072745
CREATED:20240726T062338Z
LAST-MODIFIED:20250307T021527Z
UID:10000034-1741454100-1741458600@sovaloudoun.org
SUMMARY:End of Winter Season Party 5:15-6:30
DESCRIPTION:Meet in the cafeteria. \nCome celebrate the accomplishments of your teammates\, learn about the Spring sports\, and enjoy some food and drink. (Gluten-free options will be available.) \nExtra! – We will be doing some Spring cleaning. SOVAL clothing sale! Bring some cash
URL:https://sovaloudoun.org/event/end-of-season-party/
LOCATION:Farmwell Middle School\, 44781 Gloucester Parkway\, Asbhurn\, Virginia\, 20147
CATEGORIES:Event
ATTACH;FMTTYPE=image/jpeg:https://sovaloudoun.org/wp-content/uploads/2024/09/images.jpg
END:VEVENT
BEGIN:VEVENT
DTSTART;TZID=America/New_York:20250308T183000
DTEND;TZID=America/New_York:20250308T203000
DTSTAMP:20260423T072745
CREATED:20241114T170822Z
LAST-MODIFIED:20250219T133924Z
UID:10000349-1741458600-1741465800@sovaloudoun.org
SUMMARY:Winter Dance Party 6:30-8:30
DESCRIPTION:Join us for music\, dance\, light refreshments and a photo both.  Registration is required. \n  \nSIGN UP HERE
URL:https://sovaloudoun.org/event/time-to-dance-party/
LOCATION:Farmwell Middle School\, 44781 Gloucester Parkway\, Asbhurn\, Virginia\, 20147
CATEGORIES:Event
ATTACH;FMTTYPE=image/jpeg:https://sovaloudoun.org/wp-content/uploads/2024/11/images.jpg
ORGANIZER;CN="Fundraising Chair Leighanne Zdobysz":MAILTO:fundraising@sovaloudoun.org
END:VEVENT
END:VCALENDAR