BEGIN:VCALENDAR
VERSION:2.0
PRODID:-//Special Olympics Loudoun County - ECPv6.15.11//NONSGML v1.0//EN
CALSCALE:GREGORIAN
METHOD:PUBLISH
X-WR-CALNAME:Special Olympics Loudoun County
X-ORIGINAL-URL:https://sovaloudoun.org
X-WR-CALDESC:Events for Special Olympics Loudoun County
REFRESH-INTERVAL;VALUE=DURATION:PT1H
X-Robots-Tag:noindex
X-PUBLISHED-TTL:PT1H
BEGIN:VTIMEZONE
TZID:America/New_York
BEGIN:DAYLIGHT
TZOFFSETFROM:-0500
TZOFFSETTO:-0400
TZNAME:EDT
DTSTART:20230312T070000
END:DAYLIGHT
BEGIN:STANDARD
TZOFFSETFROM:-0400
TZOFFSETTO:-0500
TZNAME:EST
DTSTART:20231105T060000
END:STANDARD
BEGIN:DAYLIGHT
TZOFFSETFROM:-0500
TZOFFSETTO:-0400
TZNAME:EDT
DTSTART:20240310T070000
END:DAYLIGHT
BEGIN:STANDARD
TZOFFSETFROM:-0400
TZOFFSETTO:-0500
TZNAME:EST
DTSTART:20241103T060000
END:STANDARD
BEGIN:DAYLIGHT
TZOFFSETFROM:-0500
TZOFFSETTO:-0400
TZNAME:EDT
DTSTART:20250309T070000
END:DAYLIGHT
BEGIN:STANDARD
TZOFFSETFROM:-0400
TZOFFSETTO:-0500
TZNAME:EST
DTSTART:20251102T060000
END:STANDARD
END:VTIMEZONE
BEGIN:VEVENT
DTSTART;TZID=America/New_York:20241005T073000
DTEND;TZID=America/New_York:20241005T100000
DTSTAMP:20260423T150201
CREATED:20240726T062208Z
LAST-MODIFIED:20240909T200318Z
UID:10000032-1728113400-1728122400@sovaloudoun.org
SUMMARY:Pancake Breakfast Fundraiser and Silent Auction
DESCRIPTION:Please join us for the first annual Pancake Breakfast & Silent Auction on October 5! \nJoin Us for a Morning of Delicious Food\, Fellowship\, and Fundraising at the Leesburg Moose Lodge! \nYour ticket includes a hearty breakfast with pancakes\, sausage\, fruit\, and beverage. \nInvite your friends and family! \nThis is a Special Olympics Virginia—Loudoun County fundraiser. Grab your seat before the event fills up. \nFor more information and tickets CLICK HERE
URL:https://sovaloudoun.org/event/pancake-breakfast-fundraiser-and-silent-auction/
LOCATION:Leesburg Moose Lodge\, 43 Catoctin Circle SE\, Leesburg\, Virginia\, 20175
CATEGORIES:Event
ATTACH;FMTTYPE=image/jpeg:https://sovaloudoun.org/wp-content/uploads/2024/07/pancakes.jpg
ORGANIZER;CN="Fundraising Chair Leighanne Zdobysz":MAILTO:fundraising@sovaloudoun.org
END:VEVENT
BEGIN:VEVENT
DTSTART;TZID=America/New_York:20241024T190000
DTEND;TZID=America/New_York:20241024T200000
DTSTAMP:20260423T150201
CREATED:20241011T001838Z
LAST-MODIFIED:20241011T101309Z
UID:10000346-1729796400-1729800000@sovaloudoun.org
SUMMARY:Coaches Interest Meeting
DESCRIPTION:We are having a Special Olympics Coach Interest virtual meeting on October 24 from 7-8pm.   Please complete the interest form and you will be contacted regarding the Zoom meeting:  https://specialolympicsva.wufoo.com/forms/area-14-volunteer-interest-meeting/.\n\nWe need some coaches!   If you would rather contact Amy Levinrad\, the volunteer coordinator\,  directly\,  email volunteers@sovaloudoun.org
URL:https://sovaloudoun.org/event/coaches-interest-meeting/
LOCATION:
CATEGORIES:Event
ORGANIZER;CN="Amy Levinrad%2C Volunteer Coordinator":MAILTO:volunteers@sovaloudoun.org
END:VEVENT
BEGIN:VEVENT
DTSTART;TZID=America/New_York:20241026T130000
DTEND;TZID=America/New_York:20241026T170000
DTSTAMP:20260423T150201
CREATED:20241011T003037Z
LAST-MODIFIED:20241011T100532Z
UID:10000347-1729947600-1729962000@sovaloudoun.org
SUMMARY:Child Safety Day:  Village at Leesburg
DESCRIPTION:Athletes are needed to help at Child Safety Day:  Village at Leesburg.  There are two time slots;  12-2 OR 2-4.  This should be alot of fun.  The event includes trick-or-treating\, public safety equipment displays\, LCSO’s K-9 unit and women’s self-defense presentations\, and much\, much more! \nSIGN UP HERE \n 
URL:https://sovaloudoun.org/event/child-safety-day-village-at-leesburg/
LOCATION:Village at Leesburg
CATEGORIES:Event
ATTACH;FMTTYPE=image/jpeg:https://sovaloudoun.org/wp-content/uploads/2024/10/462322355_922539889903831_8567041676717963973_n.jpg
ORGANIZER;CN="Nasir Ahmed":MAILTO:outreach@sovaloudoun.org
END:VEVENT
END:VCALENDAR