BEGIN:VCALENDAR
VERSION:2.0
PRODID:-//Special Olympics Loudoun County - ECPv6.15.11//NONSGML v1.0//EN
CALSCALE:GREGORIAN
METHOD:PUBLISH
X-WR-CALNAME:Special Olympics Loudoun County
X-ORIGINAL-URL:https://sovaloudoun.org
X-WR-CALDESC:Events for Special Olympics Loudoun County
REFRESH-INTERVAL;VALUE=DURATION:PT1H
X-Robots-Tag:noindex
X-PUBLISHED-TTL:PT1H
BEGIN:VTIMEZONE
TZID:America/New_York
BEGIN:DAYLIGHT
TZOFFSETFROM:-0500
TZOFFSETTO:-0400
TZNAME:EDT
DTSTART:20230312T070000
END:DAYLIGHT
BEGIN:STANDARD
TZOFFSETFROM:-0400
TZOFFSETTO:-0500
TZNAME:EST
DTSTART:20231105T060000
END:STANDARD
BEGIN:DAYLIGHT
TZOFFSETFROM:-0500
TZOFFSETTO:-0400
TZNAME:EDT
DTSTART:20240310T070000
END:DAYLIGHT
BEGIN:STANDARD
TZOFFSETFROM:-0400
TZOFFSETTO:-0500
TZNAME:EST
DTSTART:20241103T060000
END:STANDARD
BEGIN:DAYLIGHT
TZOFFSETFROM:-0500
TZOFFSETTO:-0400
TZNAME:EDT
DTSTART:20250309T070000
END:DAYLIGHT
BEGIN:STANDARD
TZOFFSETFROM:-0400
TZOFFSETTO:-0500
TZNAME:EST
DTSTART:20251102T060000
END:STANDARD
END:VTIMEZONE
BEGIN:VEVENT
DTSTART;VALUE=DATE:20240929
DTEND;VALUE=DATE:20240930
DTSTAMP:20260422T085424
CREATED:20240812T165138Z
LAST-MODIFIED:20240902T154643Z
UID:10000276-1727568000-1727654399@sovaloudoun.org
SUMMARY:Bocce Tournament at the Maryland Italian Festival
DESCRIPTION:The Society of Italian Americans will once again be having their Italian Festival this fall on 27-29 Sept and host the Special Olympics Tournament on Sunday the 29th.  Stay tuned for additional information.
URL:https://sovaloudoun.org/event/bocce-tournament-at-the-maryland-italian-festival/
LOCATION:Harford County Equestrain Center\, 608 N Tollgate Rd\, Bel Air\, Maryland\, 21014
CATEGORIES:Tournament
ORGANIZER;CN="Laura and Pat King":MAILTO:bocce@sovaloudoun.org
END:VEVENT
BEGIN:VEVENT
DTSTART;TZID=America/New_York:20240929T110000
DTEND;TZID=America/New_York:20240929T120000
DTSTAMP:20260422T085424
CREATED:20240808T142429Z
LAST-MODIFIED:20240808T142429Z
UID:10000226-1727607600-1727611200@sovaloudoun.org
SUMMARY:Softball Skills-Western Loudoun
DESCRIPTION:Season runs through October 27th.  Ages 8-13.  Click on the brown box for more details or to register.  Register HERE.
URL:https://sovaloudoun.org/event/softball-skills-western-loudoun/2024-09-29/
LOCATION:Scott Jenkins Park\, 39464 E Colonial Hwy\, Hamilton\, Virginia\, 20158
ORGANIZER;CN="Mike Binns":MAILTO:wlsoftballskills@sovaloudoun.org
END:VEVENT
BEGIN:VEVENT
DTSTART;TZID=America/New_York:20240929T110000
DTEND;TZID=America/New_York:20240929T140000
DTSTAMP:20260422T085424
CREATED:20240808T142144Z
LAST-MODIFIED:20240808T142144Z
UID:10000208-1727607600-1727618400@sovaloudoun.org
SUMMARY:Bowling
DESCRIPTION:Season runs through October 27th.  Click on the brown box for more details and to register.  Register HERE.
URL:https://sovaloudoun.org/event/bowling/2024-09-29/
LOCATION:The Branch Bowling Alley\, 49 Catoctin Circle SE\, Leesburg\, Virginia\, 20175
ORGANIZER;CN="T.J. Delitta":MAILTO:bowling@sovaloudoun.org
END:VEVENT
BEGIN:VEVENT
DTSTART;TZID=America/New_York:20240929T140000
DTEND;TZID=America/New_York:20240929T150000
DTSTAMP:20260422T085424
CREATED:20240808T134949Z
LAST-MODIFIED:20240808T134949Z
UID:10000234-1727618400-1727622000@sovaloudoun.org
SUMMARY:Competitive Swimming-Dulles South
DESCRIPTION:Season runs through October 27th.  Click on the brown box for more details and to register.  Register HERE.
URL:https://sovaloudoun.org/event/competitive-swimming-dulles-south/2024-09-29/
LOCATION:Dulles South Recreation Center\, 24950 Riding Center Drive\, South Riding\, Virginia\, 20152
ORGANIZER;CN="Nagaraj Yerram":MAILTO:dsswimming@sovaloudoun.org
END:VEVENT
BEGIN:VEVENT
DTSTART;TZID=America/New_York:20240929T143000
DTEND;TZID=America/New_York:20240929T153000
DTSTAMP:20260422T085424
CREATED:20240808T142800Z
LAST-MODIFIED:20240808T143647Z
UID:10000217-1727620200-1727623800@sovaloudoun.org
SUMMARY:Softball Skills-Eastern Loudoun
DESCRIPTION:Season runs through October 27th.  Ages 14 and up.  Click on the brown box for more details or to register.  Register HERE.
URL:https://sovaloudoun.org/event/softball-skills-eastern-loudoun/2024-09-29/
LOCATION:Trailside Middle School\, 20325 Claiborne Parkway\, Ashburn\, Virginia\, 20147
ORGANIZER;CN="Paula Culvyhouse":MAILTO:softballskills@sovaloudoun.org
END:VEVENT
END:VCALENDAR