BEGIN:VCALENDAR
VERSION:2.0
PRODID:-//Special Olympics Loudoun County - ECPv6.15.11//NONSGML v1.0//EN
CALSCALE:GREGORIAN
METHOD:PUBLISH
X-WR-CALNAME:Special Olympics Loudoun County
X-ORIGINAL-URL:https://sovaloudoun.org
X-WR-CALDESC:Events for Special Olympics Loudoun County
REFRESH-INTERVAL;VALUE=DURATION:PT1H
X-Robots-Tag:noindex
X-PUBLISHED-TTL:PT1H
BEGIN:VTIMEZONE
TZID:America/New_York
BEGIN:DAYLIGHT
TZOFFSETFROM:-0500
TZOFFSETTO:-0400
TZNAME:EDT
DTSTART:20230312T070000
END:DAYLIGHT
BEGIN:STANDARD
TZOFFSETFROM:-0400
TZOFFSETTO:-0500
TZNAME:EST
DTSTART:20231105T060000
END:STANDARD
BEGIN:DAYLIGHT
TZOFFSETFROM:-0500
TZOFFSETTO:-0400
TZNAME:EDT
DTSTART:20240310T070000
END:DAYLIGHT
BEGIN:STANDARD
TZOFFSETFROM:-0400
TZOFFSETTO:-0500
TZNAME:EST
DTSTART:20241103T060000
END:STANDARD
BEGIN:DAYLIGHT
TZOFFSETFROM:-0500
TZOFFSETTO:-0400
TZNAME:EDT
DTSTART:20250309T070000
END:DAYLIGHT
BEGIN:STANDARD
TZOFFSETFROM:-0400
TZOFFSETTO:-0500
TZNAME:EST
DTSTART:20251102T060000
END:STANDARD
END:VTIMEZONE
BEGIN:VEVENT
DTSTART;TZID=America/New_York:20240924T173000
DTEND;TZID=America/New_York:20240924T190000
DTSTAMP:20260422T121113
CREATED:20240808T132016Z
LAST-MODIFIED:20240808T162652Z
UID:10000128-1727199000-1727204400@sovaloudoun.org
SUMMARY:Bocce
DESCRIPTION:There will be two time slots with a limit of 16 players each:  5:30-6:15 and 6:15-7:00.  Pickleball is being held at the same location in the same time frame 5:30-7:00.  An athlete can therefore register for bocce and play for half of the 5:30-7:00 time frame and register for pickleball for the other half.  If you have any questions\, contact Tom Knight at memberatlarge2@sovaloudoun.org.  Click on the brown box for more details and to register.   Register HERE.
URL:https://sovaloudoun.org/event/bocce/2024-09-24/
LOCATION:Potomac Green Neighborhood Park\, 20750 Marblehead Drive\, Ashburn\, VA\, 20147\, United States
ORGANIZER;CN="Laura and Pat King":MAILTO:bocce@sovaloudoun.org
END:VEVENT
BEGIN:VEVENT
DTSTART;TZID=America/New_York:20240924T173000
DTEND;TZID=America/New_York:20240924T190000
DTSTAMP:20260422T121113
CREATED:20240808T154600Z
LAST-MODIFIED:20240808T165935Z
UID:10000137-1727199000-1727204400@sovaloudoun.org
SUMMARY:Pickleball-Eastern Loudoun
DESCRIPTION:After evaluating the athletes skill set at the initial practice on 9/3\, there will be two practices sorted by ability level:  5:30-6:15 (lower skilled players) and 6:15-7:00 (higher skilled players) .    Limited to 32 athletes between the two levels.   Bocce is being held at the same location in the same time frame 5:30-7:00.  An athlete can therefore register for pickleball and play for half of the 5:30-7:00 time frame and register for bocce for the other half.  If you have any questions\, contact Tom Knight at memberatlarge2@sovaloudoun.org.  Click on the brown box for more details and to register.  Register HERE.
URL:https://sovaloudoun.org/event/pickleball-eastern-loudoun/2024-09-24/
LOCATION:Potomac Green Neighborhood Park\, 20750 Marblehead Drive\, Ashburn\, VA\, 20147\, United States
ORGANIZER;CN="Andy Stromberg":MAILTO:pickleball@sovaloudoun.org
END:VEVENT
END:VCALENDAR