BEGIN:VCALENDAR
VERSION:2.0
PRODID:-//Special Olympics Loudoun County - ECPv6.15.11//NONSGML v1.0//EN
CALSCALE:GREGORIAN
METHOD:PUBLISH
X-ORIGINAL-URL:https://sovaloudoun.org
X-WR-CALDESC:Events for Special Olympics Loudoun County
REFRESH-INTERVAL;VALUE=DURATION:PT1H
X-Robots-Tag:noindex
X-PUBLISHED-TTL:PT1H
BEGIN:VTIMEZONE
TZID:America/New_York
BEGIN:DAYLIGHT
TZOFFSETFROM:-0500
TZOFFSETTO:-0400
TZNAME:EDT
DTSTART:20230312T070000
END:DAYLIGHT
BEGIN:STANDARD
TZOFFSETFROM:-0400
TZOFFSETTO:-0500
TZNAME:EST
DTSTART:20231105T060000
END:STANDARD
BEGIN:DAYLIGHT
TZOFFSETFROM:-0500
TZOFFSETTO:-0400
TZNAME:EDT
DTSTART:20240310T070000
END:DAYLIGHT
BEGIN:STANDARD
TZOFFSETFROM:-0400
TZOFFSETTO:-0500
TZNAME:EST
DTSTART:20241103T060000
END:STANDARD
BEGIN:DAYLIGHT
TZOFFSETFROM:-0500
TZOFFSETTO:-0400
TZNAME:EDT
DTSTART:20250309T070000
END:DAYLIGHT
BEGIN:STANDARD
TZOFFSETFROM:-0400
TZOFFSETTO:-0500
TZNAME:EST
DTSTART:20251102T060000
END:STANDARD
END:VTIMEZONE
BEGIN:VEVENT
DTSTART;TZID=America/New_York:20240912T173000
DTEND;TZID=America/New_York:20240912T183000
DTSTAMP:20260422T105520
CREATED:20240808T135925Z
LAST-MODIFIED:20240808T135925Z
UID:10000169-1726162200-1726165800@sovaloudoun.org
SUMMARY:Soccer-Western Loudoun
DESCRIPTION:Every Thursday through October 24th.  Meet in the grassy area behind the soccer field.  Click on the brown box for more details and to register.  Register HERE.
URL:https://sovaloudoun.org/event/soccer-western-loudoun/2024-09-12/
LOCATION:Woodgrove Park\, 17020 Evening Star Drive\, Round Hill\, VA\, 20141\, United States
ORGANIZER;CN="C. Joy Cavagnaro":MAILTO:wlsoccer@sovaloudoun.org
END:VEVENT
BEGIN:VEVENT
DTSTART;TZID=America/New_York:20240912T183000
DTEND;TZID=America/New_York:20240912T193000
DTSTAMP:20260422T105520
CREATED:20240808T134623Z
LAST-MODIFIED:20240808T135147Z
UID:10000161-1726165800-1726169400@sovaloudoun.org
SUMMARY:Competitive Swimming-Western Loudoun
DESCRIPTION:Every Thursday through October 24.  Click on the brown box for more details and to register.  Register HERE.
URL:https://sovaloudoun.org/event/competitive-swimming-western-loudoun/2024-09-12/
LOCATION:Round Hill Aquatic Center\, 17010 Evening Star Drive\, Round Hill\, VA\, 20141\, United States
ORGANIZER;CN="Coach Joy Cavagnaro":MAILTO:wlswimming@sovaloudoun.org
END:VEVENT
END:VCALENDAR