BEGIN:VCALENDAR
VERSION:2.0
PRODID:-//Special Olympics Loudoun County - ECPv6.15.11//NONSGML v1.0//EN
CALSCALE:GREGORIAN
METHOD:PUBLISH
X-WR-CALNAME:Special Olympics Loudoun County
X-ORIGINAL-URL:https://sovaloudoun.org
X-WR-CALDESC:Events for Special Olympics Loudoun County
REFRESH-INTERVAL;VALUE=DURATION:PT1H
X-Robots-Tag:noindex
X-PUBLISHED-TTL:PT1H
BEGIN:VTIMEZONE
TZID:America/New_York
BEGIN:DAYLIGHT
TZOFFSETFROM:-0500
TZOFFSETTO:-0400
TZNAME:EDT
DTSTART:20230312T070000
END:DAYLIGHT
BEGIN:STANDARD
TZOFFSETFROM:-0400
TZOFFSETTO:-0500
TZNAME:EST
DTSTART:20231105T060000
END:STANDARD
BEGIN:DAYLIGHT
TZOFFSETFROM:-0500
TZOFFSETTO:-0400
TZNAME:EDT
DTSTART:20240310T070000
END:DAYLIGHT
BEGIN:STANDARD
TZOFFSETFROM:-0400
TZOFFSETTO:-0500
TZNAME:EST
DTSTART:20241103T060000
END:STANDARD
BEGIN:DAYLIGHT
TZOFFSETFROM:-0500
TZOFFSETTO:-0400
TZNAME:EDT
DTSTART:20250309T070000
END:DAYLIGHT
BEGIN:STANDARD
TZOFFSETFROM:-0400
TZOFFSETTO:-0500
TZNAME:EST
DTSTART:20251102T060000
END:STANDARD
END:VTIMEZONE
BEGIN:VEVENT
DTSTART;TZID=America/New_York:20240719T190000
DTEND;TZID=America/New_York:20240719T230000
DTSTAMP:20260422T134831
CREATED:20240729T061823Z
LAST-MODIFIED:20240729T061823Z
UID:10000078-1721415600-1721430000@sovaloudoun.org
SUMMARY:Purcellville Cannons baseball game:  SOVAL Night 7:00 pm (6:15 arrival) Fireman's Field\, Purcellville
DESCRIPTION:TAKE ME OUT TO THE BALL GAME!   All Special Olympics athletes wearing a Special Olympics jersey will get into the game for free.  Cheer on the hometown team\, buy a hot dog\, hang out with your friends\, maybe even catch a fly ball.  Arrive at the ball field at 6:15.
URL:https://sovaloudoun.org/event/purcellville-cannons-baseball-game-soval-night-700-pm-615-arrival-firemans-field-purcellville-2/
END:VEVENT
END:VCALENDAR