BEGIN:VCALENDAR
VERSION:2.0
PRODID:-//Special Olympics Loudoun County - ECPv6.15.11//NONSGML v1.0//EN
CALSCALE:GREGORIAN
METHOD:PUBLISH
X-WR-CALNAME:Special Olympics Loudoun County
X-ORIGINAL-URL:https://sovaloudoun.org
X-WR-CALDESC:Events for Special Olympics Loudoun County
REFRESH-INTERVAL;VALUE=DURATION:PT1H
X-Robots-Tag:noindex
X-PUBLISHED-TTL:PT1H
BEGIN:VTIMEZONE
TZID:America/New_York
BEGIN:DAYLIGHT
TZOFFSETFROM:-0500
TZOFFSETTO:-0400
TZNAME:EDT
DTSTART:20230312T070000
END:DAYLIGHT
BEGIN:STANDARD
TZOFFSETFROM:-0400
TZOFFSETTO:-0500
TZNAME:EST
DTSTART:20231105T060000
END:STANDARD
BEGIN:DAYLIGHT
TZOFFSETFROM:-0500
TZOFFSETTO:-0400
TZNAME:EDT
DTSTART:20240310T070000
END:DAYLIGHT
BEGIN:STANDARD
TZOFFSETFROM:-0400
TZOFFSETTO:-0500
TZNAME:EST
DTSTART:20241103T060000
END:STANDARD
BEGIN:DAYLIGHT
TZOFFSETFROM:-0500
TZOFFSETTO:-0400
TZNAME:EDT
DTSTART:20250309T070000
END:DAYLIGHT
BEGIN:STANDARD
TZOFFSETFROM:-0400
TZOFFSETTO:-0500
TZNAME:EST
DTSTART:20251102T060000
END:STANDARD
END:VTIMEZONE
BEGIN:VEVENT
DTSTART;VALUE=DATE:20240108
DTEND;VALUE=DATE:20240109
DTSTAMP:20260422T225046
CREATED:20240726T065404Z
LAST-MODIFIED:20240726T065404Z
UID:10000040-1704672000-1704758399@sovaloudoun.org
SUMMARY:Top Golf Winter Season Begins - click on the event in the calendar for details
DESCRIPTION:The driving range is located off Route 7 in One Loudoun.  Practice is from 6:30-8:30 on Monday evenings.  Athletes need to to commit to attend at least 60% of the practices.  The program is very popular.  The season runs through March 25. \nTo register\, go to sovaloudoun.org/sports/ \nTo volunteer\, contact volunteers@sovaloudoun.org. \nFor more information about the program\, contact topgolf@sovaloudoun.org.
URL:https://sovaloudoun.org/event/top-golf-winter-season-begins-click-on-the-event-in-the-calendar-for-details/
END:VEVENT
END:VCALENDAR