BEGIN:VCALENDAR
VERSION:2.0
PRODID:-//Special Olympics Loudoun County - ECPv6.15.11//NONSGML v1.0//EN
CALSCALE:GREGORIAN
METHOD:PUBLISH
X-WR-CALNAME:Special Olympics Loudoun County
X-ORIGINAL-URL:https://sovaloudoun.org
X-WR-CALDESC:Events for Special Olympics Loudoun County
REFRESH-INTERVAL;VALUE=DURATION:PT1H
X-Robots-Tag:noindex
X-PUBLISHED-TTL:PT1H
BEGIN:VTIMEZONE
TZID:America/New_York
BEGIN:DAYLIGHT
TZOFFSETFROM:-0500
TZOFFSETTO:-0400
TZNAME:EDT
DTSTART:20230312T070000
END:DAYLIGHT
BEGIN:STANDARD
TZOFFSETFROM:-0400
TZOFFSETTO:-0500
TZNAME:EST
DTSTART:20231105T060000
END:STANDARD
BEGIN:DAYLIGHT
TZOFFSETFROM:-0500
TZOFFSETTO:-0400
TZNAME:EDT
DTSTART:20240310T070000
END:DAYLIGHT
BEGIN:STANDARD
TZOFFSETFROM:-0400
TZOFFSETTO:-0500
TZNAME:EST
DTSTART:20241103T060000
END:STANDARD
BEGIN:DAYLIGHT
TZOFFSETFROM:-0500
TZOFFSETTO:-0400
TZNAME:EDT
DTSTART:20250309T070000
END:DAYLIGHT
BEGIN:STANDARD
TZOFFSETFROM:-0400
TZOFFSETTO:-0500
TZNAME:EST
DTSTART:20251102T060000
END:STANDARD
END:VTIMEZONE
BEGIN:VEVENT
DTSTART;VALUE=DATE:20240106
DTEND;VALUE=DATE:20240107
DTSTAMP:20260422T225120
CREATED:20240726T065316Z
LAST-MODIFIED:20240726T065316Z
UID:10000039-1704499200-1704585599@sovaloudoun.org
SUMMARY:Loudoun Basketball Tournament - Register to volunteer by clicking on the event in the calendar
DESCRIPTION:Special Olympics Loudoun County proudly hosts the first basketball tournament of the season.  This event is held at several schools in the community.  It requires lots of volunteers to make it successful.  If you are interested in being a referee or signing in teams or anything else\, click here https://www.signupgenius.com/go/805094EADAD2BA46-46793868-2024#/.  If you are a member of the community and want to simply watch the fun\, contact info@sovaloudoun.org to find out the locations and times for the tournament games.
URL:https://sovaloudoun.org/event/loudoun-basketball-tournament-register-to-volunteer-by-clicking-on-the-event-in-the-calendar/
END:VEVENT
END:VCALENDAR